{
 "currentVersion": 10.81,
 "serviceDescription": "Raster file showing the contribution of marine areas to marine food provision. This includes food taken from the sea for human consumption, including fish (marine and diadromous), shellfish, crustaceans, and algae, both from wild harvest and from aquaculture.",
 "name": "NPWS/MAES15ESMapFoodMarineWGS84",
 "description": "Raster file showing the contribution of marine areas to marine food provision. This includes food taken from the sea for human consumption, including fish (marine and diadromous), shellfish, crustaceans, and algae, both from wild harvest and from aquaculture.",
 "extent": {
  "xmin": -25.612502542181367,
  "ymin": 46.07101660932348,
  "xmax": -4.920767849972158,
  "ymax": 58.38230067249902,
  "spatialReference": {
   "wkid": 4326,
   "latestWkid": 4326
  }
 },
 "initialExtent": {
  "xmin": -25.612502542181367,
  "ymin": 46.07101660932348,
  "xmax": -4.920767849972158,
  "ymax": 58.38230067249902,
  "spatialReference": {
   "wkid": 4326,
   "latestWkid": 4326
  }
 },
 "fullExtent": {
  "xmin": -25.612502542181367,
  "ymin": 46.07101660932348,
  "xmax": -4.920767849972158,
  "ymax": 58.38230067249902,
  "spatialReference": {
   "wkid": 4326,
   "latestWkid": 4326
  }
 },
 "pixelSizeX": 6.34209976466904E-4,
 "pixelSizeY": 6.34209976466904E-4,
 "bandCount": 1,
 "pixelType": "S32",
 "minPixelSize": 0,
 "maxPixelSize": 0,
 "copyrightText": "Copyright Government of Ireland. This dataset was created by National Parks and Wildlife Service, Department of Arts, Heritage, Regional, Rural and Gaeltacht Affairs. This copyright material is licensed for re-use under the Creative Commons Attribution 4.0 International license. http://creativecommons.org/licenses/by/4.0/",
 "serviceDataType": "esriImageServiceDataTypeGeneric",
 "minValues": [
  0
 ],
 "maxValues": [
  2700
 ],
 "meanValues": [
  305.89870017529034
 ],
 "stdvValues": [
  213.34238807842854
 ],
 "objectIdField": "",
 "fields": [],
 "capabilities": "Image,Metadata,Mensuration",
 "defaultMosaicMethod": "Center",
 "allowedMosaicMethods": "",
 "sortField": "",
 "sortValue": null,
 "sortAscending": true,
 "mosaicOperator": "First",
 "defaultCompressionQuality": 75,
 "defaultResamplingMethod": "Nearest",
 "maxImageHeight": 4100,
 "maxImageWidth": 15000,
 "allowRasterFunction": true,
 "rasterFunctionInfos": [
  {
   "name": "None",
   "description": "",
   "help": ""
  }
 ],
 "rasterTypeInfos": [
  {
   "name": "Raster Dataset",
   "description": "Supports all ArcGIS Raster Datasets",
   "help": ""
  }
 ],
 "mensurationCapabilities": "Basic",
 "hasHistograms": true,
 "hasColormap": true,
 "hasRasterAttributeTable": true,
 "minScale": 0,
 "maxScale": 0,
 "exportTilesAllowed": false,
 "hasMultidimensions": false,
 "supportsStatistics": false,
 "supportsAdvancedQueries": false,
 "editFieldsInfo": null,
 "ownershipBasedAccessControlForRasters": null,
 "allowComputeTiePoints": false,
 "useStandardizedQueries": true,
 "advancedQueryCapabilities": {
  "useStandardizedQueries": true,
  "supportsStatistics": false,
  "supportsOrderBy": false,
  "supportsDistinct": false,
  "supportsPagination": false
 },
 "spatialReference": {
  "wkid": 4326,
  "latestWkid": 4326
 }
}
