{
 "currentVersion": 10.81,
 "serviceDescription": "Raster file showing the approximate biodiversity stock of terrestrial areas.",
 "name": "NPWS/MAES15TerrestrialBiodiversity",
 "description": "Raster file showing the approximate biodiversity stock of terrestrial areas.",
 "extent": {
  "xmin": 369850,
  "ymin": 472400,
  "xmax": 782050,
  "ymax": 1009350,
  "spatialReference": {
   "wkid": 2157,
   "latestWkid": 2157
  }
 },
 "initialExtent": {
  "xmin": 369850,
  "ymin": 472400,
  "xmax": 782050,
  "ymax": 1009350,
  "spatialReference": {
   "wkid": 2157,
   "latestWkid": 2157
  }
 },
 "fullExtent": {
  "xmin": 369850,
  "ymin": 472400,
  "xmax": 782050,
  "ymax": 1009350,
  "spatialReference": {
   "wkid": 2157,
   "latestWkid": 2157
  }
 },
 "pixelSizeX": 50,
 "pixelSizeY": 50,
 "bandCount": 1,
 "pixelType": "S16",
 "minPixelSize": 0,
 "maxPixelSize": 0,
 "copyrightText": "Copyright Government of Ireland. This dataset was created by National Parks and Wildlife Service, Department of Arts, Heritage, Regional, Rural and Gaeltacht Affairs. This copyright material is licensed for re-use under the Creative Commons Attribution 4.0 International license. http://creativecommons.org/licenses/by/4.0/",
 "serviceDataType": "esriImageServiceDataTypeThematic",
 "minValues": [
  50
 ],
 "maxValues": [
  1500
 ],
 "meanValues": [
  547.8205673327211
 ],
 "stdvValues": [
  158.21458733184562
 ],
 "objectIdField": "",
 "fields": [],
 "capabilities": "Image,Metadata,Mensuration",
 "defaultMosaicMethod": "Center",
 "allowedMosaicMethods": "",
 "sortField": "",
 "sortValue": null,
 "sortAscending": true,
 "mosaicOperator": "First",
 "defaultCompressionQuality": 75,
 "defaultResamplingMethod": "Nearest",
 "maxImageHeight": 4100,
 "maxImageWidth": 15000,
 "allowRasterFunction": true,
 "rasterFunctionInfos": [
  {
   "name": "None",
   "description": "",
   "help": ""
  }
 ],
 "rasterTypeInfos": [
  {
   "name": "Raster Dataset",
   "description": "Supports all ArcGIS Raster Datasets",
   "help": ""
  }
 ],
 "mensurationCapabilities": "Basic",
 "hasHistograms": true,
 "hasColormap": true,
 "hasRasterAttributeTable": true,
 "minScale": 0,
 "maxScale": 0,
 "exportTilesAllowed": false,
 "hasMultidimensions": false,
 "supportsStatistics": false,
 "supportsAdvancedQueries": false,
 "editFieldsInfo": null,
 "ownershipBasedAccessControlForRasters": null,
 "allowComputeTiePoints": false,
 "useStandardizedQueries": true,
 "advancedQueryCapabilities": {
  "useStandardizedQueries": true,
  "supportsStatistics": false,
  "supportsOrderBy": false,
  "supportsDistinct": false,
  "supportsPagination": false
 },
 "spatialReference": {
  "wkid": 2157,
  "latestWkid": 2157
 }
}
