View In:
ArcGIS JavaScript
ArcGIS Online Map Viewer
ArcGIS Earth
ArcMap
View Footprint In:
ArcGIS Online Map Viewer
Service Description: Raster file showing the approximate biodiversity stock of marine areas.
Name: NPWS/MAES15BiodiversityMarineWGS84
Description: Raster file showing the approximate biodiversity stock of marine areas.
Single Fused Map Cache: false
Extent:
XMin: -25.613499719620783
YMin: 46.07013232789755
XMax: -4.919753423160017
YMax: 58.382749649896056
Spatial Reference: 4326
(4326)
Initial Extent:
XMin: -25.613499719620783
YMin: 46.07013232789755
XMax: -4.919753423160017
YMax: 58.382749649896056
Spatial Reference: 4326
(4326)
Full Extent:
XMin: -25.613499719620783
YMin: 46.07013232789755
XMax: -4.919753423160017
YMax: 58.382749649896056
Spatial Reference: 4326
(4326)
Pixel Size X: 6.342133162665349E-4
Pixel Size Y: 6.342133162665349E-4
Band Count: 1
Pixel Type: S32
RasterFunction Infos: {"rasterFunctionInfos": [{
"name": "None",
"description": "",
"help": ""
}]}
Mensuration Capabilities: Basic
Has Histograms: true
Has Colormap: true
Has Multi Dimensions : false
Rendering Rule:
Min Scale: 0
Max Scale: 0
Copyright Text: Copyright Government of Ireland. This dataset was created by National Parks and Wildlife Service, Department of Arts, Heritage, Regional, Rural and Gaeltacht Affairs. This copyright material is licensed for re-use under the Creative Commons Attribution 4.0 International license. http://creativecommons.org/licenses/by/4.0/
Service Data Type: esriImageServiceDataTypeThematic
Min Values: 0
Max Values: 1675
Mean Values: 533.342588670955
Standard Deviation Values: 73.0170284395057
Object ID Field:
Fields:
None
Default Mosaic Method: Center
Allowed Mosaic Methods:
SortField:
SortValue: null
Mosaic Operator: First
Default Compression Quality: 75
Default Resampling Method: Nearest
Max Record Count: null
Max Image Height: 4100
Max Image Width: 15000
Max Download Image Count: null
Max Mosaic Image Count: null
Allow Raster Function: true
Allow Copy: null
Allow Analysis: null
Allow Compute TiePoints: false
Supports Statistics: false
Supports Advanced Queries: false
Use StandardizedQueries: true
Raster Type Infos:
Name: Raster Dataset
Description: Supports all ArcGIS Raster Datasets
Help:
Has Raster Attribute Table: true
Edit Fields Info: null
Ownership Based AccessControl For Rasters: null
Child Resources:
Info
Raster Attribute Table
Histograms
Key Properties
Color Map
Legend
Raster Function Infos
Supported Operations:
Export Image
Identify
Measure
Compute Histograms
Compute Statistics Histograms
Get Samples
Compute Class Statistics
Query Boundary
Compute Pixel Location
Validate
Project