View In:
ArcGIS JavaScript
ArcGIS Online Map Viewer
ArcGIS Earth
ArcMap
View Footprint In:
ArcGIS Online Map Viewer
Service Description: This dataset contains a habitat asset register for Ireland, e.g. a national scale habitat map conflating all nationally relevant habitat data into one dataset. It is to be considered in conjunction with the Final Report. This dataset shows the Habitat Asset Register.
Name: NPWS/MAES15HARL1
Description: This dataset contains a habitat asset register for Ireland, e.g. a national scale habitat map conflating all nationally relevant habitat data into one dataset. It is to be considered in conjunction with the Final Report. This dataset shows the Habitat Asset Register.
Single Fused Map Cache: false
Extent:
XMin: 417000
YMin: 519650
XMax: 734500
YMax: 967300
Spatial Reference: 2157
(2157)
Initial Extent:
XMin: 417000
YMin: 519650
XMax: 734500
YMax: 967300
Spatial Reference: 2157
(2157)
Full Extent:
XMin: 417000
YMin: 519650
XMax: 734500
YMax: 967300
Spatial Reference: 2157
(2157)
Pixel Size X: 50.0
Pixel Size Y: 50.0
Band Count: 1
Pixel Type: U8
RasterFunction Infos: {"rasterFunctionInfos": [{
"name": "None",
"description": "",
"help": ""
}]}
Mensuration Capabilities: Basic
Has Histograms: true
Has Colormap: true
Has Multi Dimensions : false
Rendering Rule:
Min Scale: 0
Max Scale: 0
Copyright Text: Copyright Government of Ireland. This dataset was created by National Parks and Wildlife Service, Department of Arts, Heritage, Regional, Rural and Gaeltacht Affairs. This copyright material is licensed for re-use under the Creative Commons Attribution 4.0 International license. http://creativecommons.org/licenses/by/4.0/
Service Data Type: esriImageServiceDataTypeGeneric
Min Values: 1
Max Values: 49
Mean Values: 15.59768200111368
Standard Deviation Values: 9.534588877033851
Object ID Field:
Fields:
None
Default Mosaic Method: Center
Allowed Mosaic Methods:
SortField:
SortValue: null
Mosaic Operator: First
Default Compression Quality: 75
Default Resampling Method: Nearest
Max Record Count: null
Max Image Height: 4100
Max Image Width: 15000
Max Download Image Count: null
Max Mosaic Image Count: null
Allow Raster Function: true
Allow Copy: null
Allow Analysis: null
Allow Compute TiePoints: false
Supports Statistics: false
Supports Advanced Queries: false
Use StandardizedQueries: true
Raster Type Infos:
Name: Raster Dataset
Description: Supports all ArcGIS Raster Datasets
Help:
Has Raster Attribute Table: true
Edit Fields Info: null
Ownership Based AccessControl For Rasters: null
Child Resources:
Info
Raster Attribute Table
Histograms
Key Properties
Color Map
Legend
Raster Function Infos
Supported Operations:
Export Image
Identify
Measure
Compute Histograms
Compute Statistics Histograms
Get Samples
Compute Class Statistics
Query Boundary
Compute Pixel Location
Validate
Project