View In:
ArcGIS JavaScript
ArcGIS Online Map Viewer
ArcGIS Earth
ArcMap
View Footprint In:
ArcGIS Online Map Viewer
Service Description: A raster dataset showing areas' contributing to the woodand network, including how important the area is for the network (based on habitat type and proximity to the next core area).
Name: NPWS/MAES15NetworksWoodland
Description: A raster dataset showing areas' contributing to the woodand network, including how important the area is for the network (based on habitat type and proximity to the next core area).
Single Fused Map Cache: false
Extent:
XMin: 417000
YMin: 519650
XMax: 734500
YMax: 967300
Spatial Reference: 2157
(2157)
Initial Extent:
XMin: 417000
YMin: 519650
XMax: 734500
YMax: 967300
Spatial Reference: 2157
(2157)
Full Extent:
XMin: 417000
YMin: 519650
XMax: 734500
YMax: 967300
Spatial Reference: 2157
(2157)
Pixel Size X: 50.0
Pixel Size Y: 50.0
Band Count: 1
Pixel Type: F32
RasterFunction Infos: {"rasterFunctionInfos": [
{
"name": "nETWORKSwOODLAND",
"description": "A raster function template.",
"help": ""
},
{
"name": "None",
"description": "",
"help": ""
}
]}
Mensuration Capabilities: Basic
Has Histograms: true
Has Colormap: false
Has Multi Dimensions : false
Rendering Rule:
Min Scale: 0
Max Scale: 0
Copyright Text: Copyright Government of Ireland. This dataset was created by National Parks and Wildlife Service, Department of Arts, Heritage, Regional, Rural and Gaeltacht Affairs. This copyright material is licensed for re-use under the Creative Commons Attribution 4.0 International license. http://creativecommons.org/licenses/by/4.0/
Service Data Type: esriImageServiceDataTypeGeneric
Min Values: 0
Max Values: 41875.890625
Mean Values: 16585.62154728983
Standard Deviation Values: 10786.551960491563
Object ID Field:
Fields:
None
Default Mosaic Method: Center
Allowed Mosaic Methods:
SortField:
SortValue: null
Mosaic Operator: First
Default Compression Quality: 75
Default Resampling Method: Bilinear
Max Record Count: null
Max Image Height: 4100
Max Image Width: 15000
Max Download Image Count: null
Max Mosaic Image Count: null
Allow Raster Function: true
Allow Copy: null
Allow Analysis: null
Allow Compute TiePoints: false
Supports Statistics: false
Supports Advanced Queries: false
Use StandardizedQueries: true
Raster Type Infos:
Name: Raster Dataset
Description: Supports all ArcGIS Raster Datasets
Help:
Has Raster Attribute Table: false
Edit Fields Info: null
Ownership Based AccessControl For Rasters: null
Child Resources:
Info
Histograms
Key Properties
Legend
Raster Function Infos
Supported Operations:
Export Image
Identify
Measure
Compute Histograms
Compute Statistics Histograms
Get Samples
Compute Class Statistics
Query Boundary
Compute Pixel Location
Validate
Project